BEGIN:VCALENDAR
VERSION:2.0
PRODID:-//Aaron Bonk - ECPv6.15.20//NONSGML v1.0//EN
CALSCALE:GREGORIAN
METHOD:PUBLISH
X-ORIGINAL-URL:https://aaronbonk.com
X-WR-CALDESC:Events for Aaron Bonk
REFRESH-INTERVAL;VALUE=DURATION:PT1H
X-Robots-Tag:noindex
X-PUBLISHED-TTL:PT1H
BEGIN:VTIMEZONE
TZID:Asia/Shanghai
BEGIN:STANDARD
TZOFFSETFROM:+0800
TZOFFSETTO:+0800
TZNAME:CST
DTSTART:20250101T000000
END:STANDARD
END:VTIMEZONE
BEGIN:VEVENT
DTSTART;VALUE=DATE:20260629
DTEND;VALUE=DATE:20260704
DTSTAMP:20260425T024756
CREATED:20251211T161942Z
LAST-MODIFIED:20260112T222328Z
UID:3777-1782691200-1783123199@aaronbonk.com
SUMMARY:Quantum of the Seas - Cruise Ship
DESCRIPTION:Danger Comedy Juggling and Whip Cracking Stage Shows!
URL:https://aaronbonk.com/dates/quantum-of-the-seas-cruise-ship/
LOCATION:CA
ATTACH;FMTTYPE=image/webp:https://aaronbonk.com/wp-content/uploads/2025/12/Quantum.webp
END:VEVENT
BEGIN:VEVENT
DTSTART;VALUE=DATE:20260704
DTEND;VALUE=DATE:20260707
DTSTAMP:20260425T024756
CREATED:20251211T162231Z
LAST-MODIFIED:20251211T162231Z
UID:3781-1783123200-1783382399@aaronbonk.com
SUMMARY:Adventure of the Seas - Cruise Ship
DESCRIPTION:Danger Comedy Juggling and Whip Cracking Stage Shows!
URL:https://aaronbonk.com/dates/adventure-of-the-seas-cruise-ship-5/
LOCATION:CA
ATTACH;FMTTYPE=image/jpeg:https://aaronbonk.com/wp-content/uploads/2023/11/adventure.jpg
END:VEVENT
BEGIN:VEVENT
DTSTART;VALUE=DATE:20260707
DTEND;VALUE=DATE:20260714
DTSTAMP:20260425T024756
CREATED:20251211T162432Z
LAST-MODIFIED:20251211T162432Z
UID:3783-1783382400-1783987199@aaronbonk.com
SUMMARY:Navigator of the Seas - Cruise Ship
DESCRIPTION:Danger Comedy Juggling and Whip Cracking Stage Shows!
URL:https://aaronbonk.com/dates/navigator-of-the-seas-cruise-ship-2/
LOCATION:CA
ATTACH;FMTTYPE=image/png:https://aaronbonk.com/wp-content/uploads/2023/04/Navigator.png
END:VEVENT
BEGIN:VEVENT
DTSTART;TZID=Asia/Shanghai:20260718T100000
DTEND;TZID=Asia/Shanghai:20260802T180000
DTSTAMP:20260425T024756
CREATED:20251211T163921Z
LAST-MODIFIED:20251211T163921Z
UID:3795-1784368800-1785693600@aaronbonk.com
SUMMARY:Maine Renaissance Faire
DESCRIPTION:Saturdays and Sundays \n10am-6pm \nFire Whips Cracking Sword Juggling Stage Shows!
URL:https://aaronbonk.com/dates/maine-renaissance-faire-2/
LOCATION:CA
ATTACH;FMTTYPE=image/jpeg:https://aaronbonk.com/wp-content/uploads/2020/11/renaissance.jpg
END:VEVENT
END:VCALENDAR