BEGIN:VCALENDAR
VERSION:2.0
PRODID:-//Aaron Bonk - ECPv6.15.20//NONSGML v1.0//EN
CALSCALE:GREGORIAN
METHOD:PUBLISH
X-ORIGINAL-URL:https://aaronbonk.com
X-WR-CALDESC:Events for Aaron Bonk
REFRESH-INTERVAL;VALUE=DURATION:PT1H
X-Robots-Tag:noindex
X-PUBLISHED-TTL:PT1H
BEGIN:VTIMEZONE
TZID:Asia/Shanghai
BEGIN:STANDARD
TZOFFSETFROM:+0800
TZOFFSETTO:+0800
TZNAME:CST
DTSTART:20250101T000000
END:STANDARD
END:VTIMEZONE
BEGIN:VEVENT
DTSTART;VALUE=DATE:20260411
DTEND;VALUE=DATE:20260601
DTSTAMP:20260425T000553
CREATED:20260301T182738Z
LAST-MODIFIED:20260301T182738Z
UID:3803-1775865600-1780271999@aaronbonk.com
SUMMARY:Georgia Renaissance Festival
DESCRIPTION:Saturdays\, Sundays and Memorial Day \n10:30am-6pm \nFire Whips Cracking Sword Juggling Stage Shows!
URL:https://aaronbonk.com/dates/georgia-renaissance-festival/
LOCATION:CA
ATTACH;FMTTYPE=image/jpeg:https://aaronbonk.com/wp-content/uploads/2021/06/IMG_4238-scaled.jpg
END:VEVENT
END:VCALENDAR