BEGIN:VCALENDAR
VERSION:2.0
PRODID:-//Aaron Bonk - ECPv6.15.20//NONSGML v1.0//EN
CALSCALE:GREGORIAN
METHOD:PUBLISH
X-ORIGINAL-URL:https://aaronbonk.com
X-WR-CALDESC:Events for Aaron Bonk
REFRESH-INTERVAL;VALUE=DURATION:PT1H
X-Robots-Tag:noindex
X-PUBLISHED-TTL:PT1H
BEGIN:VTIMEZONE
TZID:Asia/Shanghai
BEGIN:STANDARD
TZOFFSETFROM:+0800
TZOFFSETTO:+0800
TZNAME:CST
DTSTART:20240101T000000
END:STANDARD
END:VTIMEZONE
BEGIN:VEVENT
DTSTART;VALUE=DATE:20250709
DTEND;VALUE=DATE:20250714
DTSTAMP:20260425T105843
CREATED:20241210T165330Z
LAST-MODIFIED:20241210T165330Z
UID:3715-1752019200-1752451199@aaronbonk.com
SUMMARY:Ruby Princess - Cruise Ship
DESCRIPTION:Danger Comedy Juggling and Whip Cracking Stage Shows!
URL:https://aaronbonk.com/dates/ruby-princess-cruise-ship/
LOCATION:CA
ATTACH;FMTTYPE=image/jpeg:https://aaronbonk.com/wp-content/uploads/2024/12/ruby.jpeg
END:VEVENT
BEGIN:VEVENT
DTSTART;TZID=Asia/Shanghai:20250719T100000
DTEND;TZID=Asia/Shanghai:20250803T170000
DTSTAMP:20260425T105843
CREATED:20210324T144737Z
LAST-MODIFIED:20241210T170548Z
UID:3522-1752919200-1754240400@aaronbonk.com
SUMMARY:Maine Renaissance Faire
DESCRIPTION:Saturdays and Sundays \n10am-6pm \nFire Whips Cracking Sword Juggling Stage Shows!
URL:https://aaronbonk.com/dates/maine-renaissance-faire/
LOCATION:CA
ATTACH;FMTTYPE=image/jpeg:https://aaronbonk.com/wp-content/uploads/2020/11/renaissance.jpg
END:VEVENT
END:VCALENDAR