BEGIN:VCALENDAR
VERSION:2.0
PRODID:-//Aaron Bonk - ECPv6.15.20//NONSGML v1.0//EN
CALSCALE:GREGORIAN
METHOD:PUBLISH
X-ORIGINAL-URL:https://aaronbonk.com
X-WR-CALDESC:Events for Aaron Bonk
REFRESH-INTERVAL;VALUE=DURATION:PT1H
X-Robots-Tag:noindex
X-PUBLISHED-TTL:PT1H
BEGIN:VTIMEZONE
TZID:Asia/Shanghai
BEGIN:STANDARD
TZOFFSETFROM:+0800
TZOFFSETTO:+0800
TZNAME:CST
DTSTART:20220101T000000
END:STANDARD
END:VTIMEZONE
BEGIN:VEVENT
DTSTART;VALUE=DATE:20231223
DTEND;VALUE=DATE:20240103
DTSTAMP:20260426T111657
CREATED:20230420T191540Z
LAST-MODIFIED:20231103T143321Z
UID:3629-1703289600-1704239999@aaronbonk.com
SUMMARY:Radiance of the Seas - Cruise Ship
DESCRIPTION:Danger Comedy Juggling and Whip Cracking Stage Shows!
URL:https://aaronbonk.com/dates/radiance-of-the-seas-cruise-ship/
LOCATION:CA
ATTACH;FMTTYPE=image/jpeg:https://aaronbonk.com/wp-content/uploads/2023/04/Radiance.jpg
END:VEVENT
BEGIN:VEVENT
DTSTART;TZID=Asia/Shanghai:20240104T190000
DTEND;TZID=Asia/Shanghai:20240104T210000
DTSTAMP:20260426T111657
CREATED:20231103T145607Z
LAST-MODIFIED:20231103T145607Z
UID:3641-1704394800-1704402000@aaronbonk.com
SUMMARY:The Whippy Show
DESCRIPTION:By popular demand\, 4 world class circus performers join forces for the first time in this EPIC show that’s a battle of wits — and WHIPS! \n\nViral social media sensations come together for 90 minutes of death defying skills\, extreme feats\, and unhinged comedy stunts.\n\nDon’t miss your chance to catch this unique blend of circus skills and silly jokes at “THE WHIPPY SHOW”\n\n\n7pm PST
URL:https://aaronbonk.com/dates/the-whippy-show/
LOCATION:CA
ATTACH;FMTTYPE=image/jpeg:https://aaronbonk.com/wp-content/uploads/2023/11/IMG_1140.jpg
END:VEVENT
BEGIN:VEVENT
DTSTART;VALUE=DATE:20240131
DTEND;VALUE=DATE:20240210
DTSTAMP:20260426T111657
CREATED:20231103T150015Z
LAST-MODIFIED:20231103T150015Z
UID:3644-1706659200-1707523199@aaronbonk.com
SUMMARY:NCL Spirit - Cruise Ship
DESCRIPTION:Danger Comedy Juggling and Whip Cracking Stage Shows!
URL:https://aaronbonk.com/dates/ncl-spirit-cruise-ship/
LOCATION:CA
ATTACH;FMTTYPE=image/webp:https://aaronbonk.com/wp-content/uploads/2023/11/Spirit.webp
END:VEVENT
END:VCALENDAR