BEGIN:VCALENDAR
VERSION:2.0
PRODID:-//Aaron Bonk - ECPv6.15.20//NONSGML v1.0//EN
CALSCALE:GREGORIAN
METHOD:PUBLISH
X-ORIGINAL-URL:https://aaronbonk.com
X-WR-CALDESC:Events for Aaron Bonk
REFRESH-INTERVAL;VALUE=DURATION:PT1H
X-Robots-Tag:noindex
X-PUBLISHED-TTL:PT1H
BEGIN:VTIMEZONE
TZID:Asia/Shanghai
BEGIN:STANDARD
TZOFFSETFROM:+0800
TZOFFSETTO:+0800
TZNAME:CST
DTSTART:20250101T000000
END:STANDARD
END:VTIMEZONE
BEGIN:VEVENT
DTSTART;VALUE=DATE:20261231
DTEND;VALUE=DATE:20270110
DTSTAMP:20260424T224344
CREATED:20260301T183001Z
LAST-MODIFIED:20260301T185004Z
UID:3805-1798675200-1799539199@aaronbonk.com
SUMMARY:Liberty of the Seas - Cruise Ship
DESCRIPTION:Danger Comedy Juggling and Whip Cracking Stage Shows!
URL:https://aaronbonk.com/dates/liberty-of-the-seas-cruise-ship-4/
ATTACH;FMTTYPE=image/jpeg:https://aaronbonk.com/wp-content/uploads/2023/01/liberty.jpeg
END:VEVENT
END:VCALENDAR