BEGIN:VCALENDAR
VERSION:2.0
PRODID:-//Aaron Bonk - ECPv6.15.20//NONSGML v1.0//EN
CALSCALE:GREGORIAN
METHOD:PUBLISH
X-WR-CALNAME:Aaron Bonk
X-ORIGINAL-URL:https://aaronbonk.com
X-WR-CALDESC:Events for Aaron Bonk
REFRESH-INTERVAL;VALUE=DURATION:PT1H
X-Robots-Tag:noindex
X-PUBLISHED-TTL:PT1H
BEGIN:VTIMEZONE
TZID:Asia/Shanghai
BEGIN:STANDARD
TZOFFSETFROM:+0800
TZOFFSETTO:+0800
TZNAME:CST
DTSTART:20230101T000000
END:STANDARD
END:VTIMEZONE
BEGIN:VEVENT
DTSTART;VALUE=DATE:20260222
DTEND;VALUE=DATE:20260302
DTSTAMP:20260425T080026
CREATED:20250408T172451Z
LAST-MODIFIED:20250408T172451Z
UID:3739-1771718400-1772409599@aaronbonk.com
SUMMARY:Regal Princess - Cruise Ship
DESCRIPTION:Danger Comedy Juggling and Whip Cracking Stage Shows!
URL:https://aaronbonk.com/dates/regal-princess-cruise-ship/
ATTACH;FMTTYPE=image/jpeg:https://aaronbonk.com/wp-content/uploads/2025/04/Regal-Princess.jpg
END:VEVENT
BEGIN:VEVENT
DTSTART;VALUE=DATE:20260208
DTEND;VALUE=DATE:20260217
DTSTAMP:20260425T080026
CREATED:20250408T172203Z
LAST-MODIFIED:20250408T172203Z
UID:3736-1770508800-1771286399@aaronbonk.com
SUMMARY:Sky Princess - Cruise Ship
DESCRIPTION:Danger Comedy Juggling and Whip Cracking Stage Shows!
URL:https://aaronbonk.com/dates/sky-princess-cruise-ship/
ATTACH;FMTTYPE=image/webp:https://aaronbonk.com/wp-content/uploads/2025/04/Sky-Princess.webp
END:VEVENT
BEGIN:VEVENT
DTSTART;VALUE=DATE:20260131
DTEND;VALUE=DATE:20260206
DTSTAMP:20260425T080026
CREATED:20250408T171802Z
LAST-MODIFIED:20250408T171802Z
UID:3732-1769817600-1770335999@aaronbonk.com
SUMMARY:Caribbean Princess - Cruise Ship
DESCRIPTION:Danger Comedy Juggling and Whip Cracking Stage Shows!
URL:https://aaronbonk.com/dates/caribbean-princess-cruise-ship/
ATTACH;FMTTYPE=image/jpeg:https://aaronbonk.com/wp-content/uploads/2025/04/Caribbean-Princess.jpg
END:VEVENT
BEGIN:VEVENT
DTSTART;VALUE=DATE:20260117
DTEND;VALUE=DATE:20260126
DTSTAMP:20260425T080026
CREATED:20250408T171333Z
LAST-MODIFIED:20250408T172646Z
UID:3729-1768608000-1769385599@aaronbonk.com
SUMMARY:Majestic Princess - Cruise Ship
DESCRIPTION:Danger Comedy Juggling and Whip Cracking Stage Shows!
URL:https://aaronbonk.com/dates/majestic-princess-cruise-ship/
ATTACH;FMTTYPE=image/jpeg:https://aaronbonk.com/wp-content/uploads/2025/04/Majestic-Princess.jpg
END:VEVENT
BEGIN:VEVENT
DTSTART;VALUE=DATE:20251231
DTEND;VALUE=DATE:20260110
DTSTAMP:20260425T080026
CREATED:20251211T163646Z
LAST-MODIFIED:20251211T163646Z
UID:3793-1767139200-1768003199@aaronbonk.com
SUMMARY:Liberty of the Seas - Cruise Ship
DESCRIPTION:Danger Comedy Juggling and Whip Cracking Stage Shows
URL:https://aaronbonk.com/dates/liberty-of-the-seas-cruise-ship-3/
ATTACH;FMTTYPE=image/jpeg:https://aaronbonk.com/wp-content/uploads/2023/01/liberty.jpeg
END:VEVENT
BEGIN:VEVENT
DTSTART;VALUE=DATE:20251231
DTEND;VALUE=DATE:20260106
DTSTAMP:20260425T080026
CREATED:20241210T170049Z
LAST-MODIFIED:20241210T170049Z
UID:3723-1767139200-1767657599@aaronbonk.com
SUMMARY:Freedom of the Seas - Cruise Ship
DESCRIPTION:Danger Comedy Juggling and Whip Cracking Stage Shows!
URL:https://aaronbonk.com/dates/freedom-of-the-seas-cruise-ship/
ATTACH;FMTTYPE=image/jpeg:https://aaronbonk.com/wp-content/uploads/2024/12/freedom.jpeg
END:VEVENT
BEGIN:VEVENT
DTSTART;VALUE=DATE:20251221
DTEND;VALUE=DATE:20251229
DTSTAMP:20260425T080026
CREATED:20241210T165635Z
LAST-MODIFIED:20241210T165635Z
UID:3720-1766275200-1766966399@aaronbonk.com
SUMMARY:Odyssey of the Seas - Cruise Ship
DESCRIPTION:Danger Comedy Juggling and Whip Cracking Stage Shows!
URL:https://aaronbonk.com/dates/odyssey-of-the-seas-cruise-ship-5/
ATTACH;FMTTYPE=image/jpeg:https://aaronbonk.com/wp-content/uploads/2023/01/Odyssey.jpeg
END:VEVENT
BEGIN:VEVENT
DTSTART;VALUE=DATE:20251206
DTEND;VALUE=DATE:20251214
DTSTAMP:20260425T080026
CREATED:20251211T163326Z
LAST-MODIFIED:20251211T163326Z
UID:3789-1764979200-1765670399@aaronbonk.com
SUMMARY:Enchantment of the Seas - Cruise Ship
DESCRIPTION:Danger Comedy Juggling and Whip Cracking Stage Shows!
URL:https://aaronbonk.com/dates/enchantment-of-the-seas-cruise-ship-2/
ATTACH;FMTTYPE=image/jpeg:https://aaronbonk.com/wp-content/uploads/2023/11/enchantment.jpg
END:VEVENT
BEGIN:VEVENT
DTSTART;VALUE=DATE:20251204
DTEND;VALUE=DATE:20251208
DTSTAMP:20260425T080026
CREATED:20241210T165506Z
LAST-MODIFIED:20241210T165506Z
UID:3718-1764806400-1765151999@aaronbonk.com
SUMMARY:Vision of the Seas - Cruise Ship
DESCRIPTION:Danger Comedy Juggling and Whip Cracking Stage Shows!
URL:https://aaronbonk.com/dates/vision-of-the-seas-cruise-ship-2/
ATTACH;FMTTYPE=image/jpeg:https://aaronbonk.com/wp-content/uploads/2024/12/vision.jpg
END:VEVENT
BEGIN:VEVENT
DTSTART;TZID=Asia/Shanghai:20251108T100000
DTEND;TZID=Asia/Shanghai:20251130T173000
DTSTAMP:20260425T080026
CREATED:20230404T164842Z
LAST-MODIFIED:20250408T170845Z
UID:3622-1762596000-1764523800@aaronbonk.com
SUMMARY:Sarasota Medieval Fair
DESCRIPTION:Saturdays and Sundays \n10am-5:30pm \nFire Whips Cracking Sword Juggling Stage Shows!
URL:https://aaronbonk.com/dates/sarasota-medieval-fair/
ATTACH;FMTTYPE=image/jpeg:https://aaronbonk.com/wp-content/uploads/2020/11/renaissance.jpg
END:VEVENT
BEGIN:VEVENT
DTSTART;TZID=Asia/Shanghai:20250816T100000
DTEND;TZID=Asia/Shanghai:20251005T190000
DTSTAMP:20260425T080026
CREATED:20210622T192420Z
LAST-MODIFIED:20241210T170347Z
UID:3535-1755338400-1759690800@aaronbonk.com
SUMMARY:New York Renaissance Faire
DESCRIPTION:Saturdays\, Sundays and Labor Day \n10am-7pm \nFire Whips Cracking Sword Juggling Stage Shows!
URL:https://aaronbonk.com/dates/new-york-renaissance-faire/
ATTACH;FMTTYPE=image/jpeg:https://aaronbonk.com/wp-content/uploads/2020/11/fire-whip-juggling.jpg
END:VEVENT
BEGIN:VEVENT
DTSTART;TZID=Asia/Shanghai:20250719T100000
DTEND;TZID=Asia/Shanghai:20250803T170000
DTSTAMP:20260425T080026
CREATED:20210324T144737Z
LAST-MODIFIED:20241210T170548Z
UID:3522-1752919200-1754240400@aaronbonk.com
SUMMARY:Maine Renaissance Faire
DESCRIPTION:Saturdays and Sundays \n10am-6pm \nFire Whips Cracking Sword Juggling Stage Shows!
URL:https://aaronbonk.com/dates/maine-renaissance-faire/
ATTACH;FMTTYPE=image/jpeg:https://aaronbonk.com/wp-content/uploads/2020/11/renaissance.jpg
END:VEVENT
BEGIN:VEVENT
DTSTART;VALUE=DATE:20250709
DTEND;VALUE=DATE:20250714
DTSTAMP:20260425T080026
CREATED:20241210T165330Z
LAST-MODIFIED:20241210T165330Z
UID:3715-1752019200-1752451199@aaronbonk.com
SUMMARY:Ruby Princess - Cruise Ship
DESCRIPTION:Danger Comedy Juggling and Whip Cracking Stage Shows!
URL:https://aaronbonk.com/dates/ruby-princess-cruise-ship/
ATTACH;FMTTYPE=image/jpeg:https://aaronbonk.com/wp-content/uploads/2024/12/ruby.jpeg
END:VEVENT
BEGIN:VEVENT
DTSTART;VALUE=DATE:20250619
DTEND;VALUE=DATE:20250629
DTSTAMP:20260425T080026
CREATED:20241210T165027Z
LAST-MODIFIED:20241210T165027Z
UID:3712-1750291200-1751155199@aaronbonk.com
SUMMARY:Mariner of the Seas - Cruise Ship
DESCRIPTION:Danger Comedy Juggling and Whip Cracking Stage Shows!
URL:https://aaronbonk.com/dates/mariner-of-the-seas-cruise-ship/
ATTACH;FMTTYPE=image/jpeg:https://aaronbonk.com/wp-content/uploads/2024/12/Mariner.jpg
END:VEVENT
BEGIN:VEVENT
DTSTART;VALUE=DATE:20250602
DTEND;VALUE=DATE:20250614
DTSTAMP:20260425T080026
CREATED:20241210T164752Z
LAST-MODIFIED:20241210T164752Z
UID:3710-1748822400-1749859199@aaronbonk.com
SUMMARY:Adventure of the Seas - Cruise Ship
DESCRIPTION:Danger Comedy Juggling and Whip Cracking Stage Shows!
URL:https://aaronbonk.com/dates/adventure-of-the-seas-cruise-ship-4/
ATTACH;FMTTYPE=image/jpeg:https://aaronbonk.com/wp-content/uploads/2023/11/adventure.jpg
END:VEVENT
BEGIN:VEVENT
DTSTART;TZID=Asia/Shanghai:20250405T100000
DTEND;TZID=Asia/Shanghai:20250518T190000
DTSTAMP:20260425T080026
CREATED:20220505T054816Z
LAST-MODIFIED:20241210T170700Z
UID:3561-1743847200-1747594800@aaronbonk.com
SUMMARY:Renaissance Pleasure Faire
DESCRIPTION:Saturdays and Sundays \n10am-7pm \nFire Whips Cracking Sword Juggling Stage Shows!
URL:https://aaronbonk.com/dates/renaissance-pleasure-faire/
ATTACH;FMTTYPE=image/jpeg:https://aaronbonk.com/wp-content/uploads/2020/11/3-whip-juggling.jpg
END:VEVENT
BEGIN:VEVENT
DTSTART;VALUE=DATE:20250321
DTEND;VALUE=DATE:20250327
DTSTAMP:20260425T080026
CREATED:20241210T164618Z
LAST-MODIFIED:20241210T164618Z
UID:3707-1742515200-1743033599@aaronbonk.com
SUMMARY:Vision of the Seas - Cruise Ship
DESCRIPTION:Danger Comedy Juggling and Whip Cracking Stage Shows!
URL:https://aaronbonk.com/dates/vision-of-the-seas-cruise-ship/
ATTACH;FMTTYPE=image/jpeg:https://aaronbonk.com/wp-content/uploads/2024/12/vision.jpg
END:VEVENT
BEGIN:VEVENT
DTSTART;VALUE=DATE:20250224
DTEND;VALUE=DATE:20250302
DTSTAMP:20260425T080026
CREATED:20241210T164330Z
LAST-MODIFIED:20241210T164330Z
UID:3705-1740355200-1740873599@aaronbonk.com
SUMMARY:Adventure of the Seas - Cruise Ship
DESCRIPTION:Danger Comedy Juggling and Whip Cracking Stage Shows!
URL:https://aaronbonk.com/dates/adventure-of-the-seas-cruise-ship-3/
ATTACH;FMTTYPE=image/jpeg:https://aaronbonk.com/wp-content/uploads/2023/11/adventure.jpg
END:VEVENT
BEGIN:VEVENT
DTSTART;VALUE=DATE:20250218
DTEND;VALUE=DATE:20250224
DTSTAMP:20260425T080026
CREATED:20241210T164204Z
LAST-MODIFIED:20241210T164204Z
UID:3702-1739836800-1740355199@aaronbonk.com
SUMMARY:Explorer of the Seas - Cruise Ship
DESCRIPTION:Danger Comedy Juggling and Whip Cracking Stage Shows!
URL:https://aaronbonk.com/dates/explorer-of-the-seas-cruise-ship/
ATTACH;FMTTYPE=image/jpeg:https://aaronbonk.com/wp-content/uploads/2024/12/explorer.jpg
END:VEVENT
BEGIN:VEVENT
DTSTART;VALUE=DATE:20250212
DTEND;VALUE=DATE:20250217
DTSTAMP:20260425T080026
CREATED:20241210T163902Z
LAST-MODIFIED:20241210T163902Z
UID:3700-1739318400-1739750399@aaronbonk.com
SUMMARY:Odyssey of the Seas - Cruise Ship
DESCRIPTION:Danger Comedy Juggling and Whip Cracking Stage Shows!
URL:https://aaronbonk.com/dates/odyssey-of-the-seas-cruise-ship-4/
ATTACH;FMTTYPE=image/jpeg:https://aaronbonk.com/wp-content/uploads/2023/01/Odyssey.jpeg
END:VEVENT
BEGIN:VEVENT
DTSTART;VALUE=DATE:20250123
DTEND;VALUE=DATE:20250129
DTSTAMP:20260425T080026
CREATED:20241210T163657Z
LAST-MODIFIED:20241210T163657Z
UID:3697-1737590400-1738108799@aaronbonk.com
SUMMARY:Jewel of the Seas - Cruise Ship
DESCRIPTION:Danger Comedy Juggling and Whip Cracking Stage Shows!
URL:https://aaronbonk.com/dates/jewel-of-the-seas-cruise-ship/
ATTACH;FMTTYPE=image/jpeg:https://aaronbonk.com/wp-content/uploads/2024/12/Jewel.jpg
END:VEVENT
BEGIN:VEVENT
DTSTART;VALUE=DATE:20250116
DTEND;VALUE=DATE:20250122
DTSTAMP:20260425T080026
CREATED:20241210T163123Z
LAST-MODIFIED:20241210T163123Z
UID:3692-1736985600-1737503999@aaronbonk.com
SUMMARY:Odyssey of the Seas - Cruise Ship
DESCRIPTION:Danger Comedy Juggling and Whip Cracking Stage Shows!
URL:https://aaronbonk.com/dates/odyssey-of-the-seas-cruise-ship-3/
ATTACH;FMTTYPE=image/jpeg:https://aaronbonk.com/wp-content/uploads/2023/01/Odyssey.jpeg
END:VEVENT
BEGIN:VEVENT
DTSTART;VALUE=DATE:20241228
DTEND;VALUE=DATE:20250105
DTSTAMP:20260425T080026
CREATED:20231103T153127Z
LAST-MODIFIED:20241204T190115Z
UID:3670-1735344000-1736035199@aaronbonk.com
SUMMARY:Radiance of the Seas - Cruise Ship
DESCRIPTION:Danger Comedy Juggling and Whip Cracking Stage Shows!
URL:https://aaronbonk.com/dates/radiance-of-the-seas-cruise-ship-3/
ATTACH;FMTTYPE=image/jpeg:https://aaronbonk.com/wp-content/uploads/2023/04/Radiance.jpg
END:VEVENT
BEGIN:VEVENT
DTSTART;VALUE=DATE:20241217
DTEND;VALUE=DATE:20241220
DTSTAMP:20260425T080026
CREATED:20231103T152540Z
LAST-MODIFIED:20241204T190327Z
UID:3665-1734393600-1734652799@aaronbonk.com
SUMMARY:Grandeur of the Seas - Cruise Ship
DESCRIPTION:Danger Comedy Juggling and Whip Cracking Stage Shows!
URL:https://aaronbonk.com/dates/grandeur-of-the-seas-cruise-ship-2/
ATTACH;FMTTYPE=image/jpeg:https://aaronbonk.com/wp-content/uploads/2023/11/grandeur.jpg
END:VEVENT
BEGIN:VEVENT
DTSTART;VALUE=DATE:20241208
DTEND;VALUE=DATE:20241216
DTSTAMP:20260425T080026
CREATED:20231103T153002Z
LAST-MODIFIED:20241204T190011Z
UID:3667-1733616000-1734307199@aaronbonk.com
SUMMARY:Wonder of the Seas - Cruise Ship
DESCRIPTION:Danger Comedy Juggling and Whip Cracking Stage Shows!
URL:https://aaronbonk.com/dates/wonder-of-the-seas-cruise-ship/
ATTACH;FMTTYPE=image/webp:https://aaronbonk.com/wp-content/uploads/2023/11/Wonder.webp
END:VEVENT
BEGIN:VEVENT
DTSTART;VALUE=DATE:20240318
DTEND;VALUE=DATE:20240330
DTSTAMP:20260425T080026
CREATED:20231103T151541Z
LAST-MODIFIED:20231103T151541Z
UID:3657-1710720000-1711756799@aaronbonk.com
SUMMARY:Adventure of the Seas - Cruise Ship
DESCRIPTION:Danger Comedy Juggling and Whip Cracking Stage Shows!
URL:https://aaronbonk.com/dates/adventure-of-the-seas-cruise-ship/
ATTACH;FMTTYPE=image/jpeg:https://aaronbonk.com/wp-content/uploads/2023/11/adventure.jpg
END:VEVENT
BEGIN:VEVENT
DTSTART;VALUE=DATE:20240224
DTEND;VALUE=DATE:20240229
DTSTAMP:20260425T080026
CREATED:20231103T150721Z
LAST-MODIFIED:20231103T150721Z
UID:3650-1708732800-1709164799@aaronbonk.com
SUMMARY:Enchantment of the Seas - Cruise Ship
DESCRIPTION:Danger Comedy Juggling and Whip Cracking Stage Shows!
URL:https://aaronbonk.com/dates/enchantment-of-the-seas-cruise-ship/
ATTACH;FMTTYPE=image/jpeg:https://aaronbonk.com/wp-content/uploads/2023/11/enchantment.jpg
END:VEVENT
BEGIN:VEVENT
DTSTART;VALUE=DATE:20240211
DTEND;VALUE=DATE:20240220
DTSTAMP:20260425T080026
CREATED:20231103T150442Z
LAST-MODIFIED:20231103T150442Z
UID:3647-1707609600-1708387199@aaronbonk.com
SUMMARY:Serenade of the Seas - Cruise Ship
DESCRIPTION:Danger Comedy Juggling and Whip Cracking Stage Shows!
URL:https://aaronbonk.com/dates/serenade-of-the-seas-cruise-ship/
ATTACH;FMTTYPE=image/jpeg:https://aaronbonk.com/wp-content/uploads/2023/11/Serenade.jpg
END:VEVENT
BEGIN:VEVENT
DTSTART;VALUE=DATE:20240131
DTEND;VALUE=DATE:20240210
DTSTAMP:20260425T080026
CREATED:20231103T150015Z
LAST-MODIFIED:20231103T150015Z
UID:3644-1706659200-1707523199@aaronbonk.com
SUMMARY:NCL Spirit - Cruise Ship
DESCRIPTION:Danger Comedy Juggling and Whip Cracking Stage Shows!
URL:https://aaronbonk.com/dates/ncl-spirit-cruise-ship/
ATTACH;FMTTYPE=image/webp:https://aaronbonk.com/wp-content/uploads/2023/11/Spirit.webp
END:VEVENT
BEGIN:VEVENT
DTSTART;TZID=Asia/Shanghai:20240104T190000
DTEND;TZID=Asia/Shanghai:20240104T210000
DTSTAMP:20260425T080026
CREATED:20231103T145607Z
LAST-MODIFIED:20231103T145607Z
UID:3641-1704394800-1704402000@aaronbonk.com
SUMMARY:The Whippy Show
DESCRIPTION:By popular demand\, 4 world class circus performers join forces for the first time in this EPIC show that’s a battle of wits — and WHIPS! \n\nViral social media sensations come together for 90 minutes of death defying skills\, extreme feats\, and unhinged comedy stunts.\n\nDon’t miss your chance to catch this unique blend of circus skills and silly jokes at “THE WHIPPY SHOW”\n\n\n7pm PST
URL:https://aaronbonk.com/dates/the-whippy-show/
ATTACH;FMTTYPE=image/jpeg:https://aaronbonk.com/wp-content/uploads/2023/11/IMG_1140.jpg
END:VEVENT
END:VCALENDAR