BEGIN:VCALENDAR
VERSION:2.0
PRODID:-//Aaron Bonk - ECPv6.15.20//NONSGML v1.0//EN
CALSCALE:GREGORIAN
METHOD:PUBLISH
X-WR-CALNAME:Aaron Bonk
X-ORIGINAL-URL:https://aaronbonk.com
X-WR-CALDESC:Events for Aaron Bonk
REFRESH-INTERVAL;VALUE=DURATION:PT1H
X-Robots-Tag:noindex
X-PUBLISHED-TTL:PT1H
BEGIN:VTIMEZONE
TZID:Asia/Shanghai
BEGIN:STANDARD
TZOFFSETFROM:+0800
TZOFFSETTO:+0800
TZNAME:CST
DTSTART:20220101T000000
END:STANDARD
END:VTIMEZONE
BEGIN:VEVENT
DTSTART;TZID=Asia/Shanghai:20230726T160000
DTEND;TZID=Asia/Shanghai:20230730T180000
DTSTAMP:20260425T232409
CREATED:20230109T185222Z
LAST-MODIFIED:20230109T185222Z
UID:3575-1690387200-1690740000@aaronbonk.com
SUMMARY:Monmouth County Fair
DESCRIPTION:Fire Whips Cracking Sword Juggling Stage Shows! \nWednesday-Friday\, July 26-28 from 4-11 p.m.\nSaturday\, July 29 from 11 a.m.-11 p.m.\nSunday\, July 30 from 11 a.m.-6 p.m
URL:https://aaronbonk.com/dates/monmouth-county-fair/
LOCATION:East Freehold Showgrounds\, 1500 Kozloski Rd\, Freehold\, NJ\, 07728\, United States
ATTACH;FMTTYPE=image/jpeg:https://aaronbonk.com/wp-content/uploads/2020/11/street-fairs-and-festivals.jpg
END:VEVENT
BEGIN:VEVENT
DTSTART;VALUE=DATE:20230702
DTEND;VALUE=DATE:20230710
DTSTAMP:20260425T232410
CREATED:20230109T191035Z
LAST-MODIFIED:20230109T191035Z
UID:3589-1688256000-1688947199@aaronbonk.com
SUMMARY:Celebrity Summit - Cruise Ship
DESCRIPTION:Danger Comedy Juggling and Whip Cracking Stage Shows!
URL:https://aaronbonk.com/dates/celebrity-summit-cruise-ship-2/
ATTACH;FMTTYPE=image/jpeg:https://aaronbonk.com/wp-content/uploads/2023/01/summit.jpeg
END:VEVENT
BEGIN:VEVENT
DTSTART;VALUE=DATE:20230618
DTEND;VALUE=DATE:20230626
DTSTAMP:20260425T232410
CREATED:20230109T190716Z
LAST-MODIFIED:20230109T191107Z
UID:3586-1687046400-1687737599@aaronbonk.com
SUMMARY:Celebrity Summit - Cruise Ship
DESCRIPTION:Danger Comedy Juggling and Whip Cracking Stage Shows!
URL:https://aaronbonk.com/dates/celebrity-summit-cruise-ship/
ATTACH;FMTTYPE=image/jpeg:https://aaronbonk.com/wp-content/uploads/2023/01/summit.jpeg
END:VEVENT
BEGIN:VEVENT
DTSTART;VALUE=DATE:20230612
DTEND;VALUE=DATE:20230617
DTSTAMP:20260425T232410
CREATED:20230420T191113Z
LAST-MODIFIED:20230420T191113Z
UID:3626-1686528000-1686959999@aaronbonk.com
SUMMARY:Navigator of the Seas - Cruise Ship
DESCRIPTION:Danger Comedy Juggling and Whip Cracking Stage Shows!
URL:https://aaronbonk.com/dates/navigator-of-the-seas-cruise-ship/
ATTACH;FMTTYPE=image/png:https://aaronbonk.com/wp-content/uploads/2023/04/Navigator.png
END:VEVENT
BEGIN:VEVENT
DTSTART;VALUE=DATE:20230602
DTEND;VALUE=DATE:20230610
DTSTAMP:20260425T232410
CREATED:20230315T192528Z
LAST-MODIFIED:20230315T192528Z
UID:3615-1685664000-1686355199@aaronbonk.com
SUMMARY:Ovation of the Seas - Cruise Ship
DESCRIPTION:Danger Comedy Juggling and Whip Cracking Stage Shows!
URL:https://aaronbonk.com/dates/ovation-of-the-seas-cruise-ship/
ATTACH;FMTTYPE=image/png:https://aaronbonk.com/wp-content/uploads/2023/03/Ovation.png
END:VEVENT
BEGIN:VEVENT
DTSTART;VALUE=DATE:20241222
DTEND;VALUE=DATE:20241227
DTSTAMP:20260425T232410
CREATED:20230109T190403Z
LAST-MODIFIED:20241204T190551Z
UID:3584-1734825600-1735257599@aaronbonk.com
SUMMARY:Odyssey of the Seas - Cruise Ship
DESCRIPTION:Danger Comedy Juggling and Whip Cracking Stage Shows!
URL:https://aaronbonk.com/dates/odyssey-of-the-seas-cruise-ship-2/
ATTACH;FMTTYPE=image/jpeg:https://aaronbonk.com/wp-content/uploads/2023/01/Odyssey.jpeg
END:VEVENT
BEGIN:VEVENT
DTSTART;TZID=Asia/Shanghai:20230224T180000
DTEND;TZID=Asia/Shanghai:20230225T202000
DTSTAMP:20260425T232410
CREATED:20230219T163231Z
LAST-MODIFIED:20230219T163231Z
UID:3612-1677261600-1677356400@aaronbonk.com
SUMMARY:Lititz Fire & Ice
DESCRIPTION:20 Minute Fire Shows! \n6pm\, 7pm\, 8pm
URL:https://aaronbonk.com/dates/lititz-fire-ice/
ATTACH;FMTTYPE=image/jpeg:https://aaronbonk.com/wp-content/uploads/2020/10/Whips-header.jpg
END:VEVENT
BEGIN:VEVENT
DTSTART;VALUE=DATE:20230215
DTEND;VALUE=DATE:20230220
DTSTAMP:20260425T232410
CREATED:20230109T185856Z
LAST-MODIFIED:20230219T163354Z
UID:3581-1676419200-1676851199@aaronbonk.com
SUMMARY:Odyssey of the Seas - Cruise Ship
DESCRIPTION:Danger Comedy Juggling and Whip Cracking Stage Shows!
URL:https://aaronbonk.com/dates/odyssey-of-the-seas-cruise-ship/
ATTACH;FMTTYPE=image/jpeg:https://aaronbonk.com/wp-content/uploads/2023/01/Odyssey.jpeg
END:VEVENT
BEGIN:VEVENT
DTSTART;VALUE=DATE:20230205
DTEND;VALUE=DATE:20230213
DTSTAMP:20260425T232410
CREATED:20230129T174755Z
LAST-MODIFIED:20230129T174755Z
UID:3608-1675555200-1676246399@aaronbonk.com
SUMMARY:Allure of the Seas - Cruise Ship
DESCRIPTION:Danger Comedy Juggling and Whip Cracking Stage Shows!
URL:https://aaronbonk.com/dates/allure-of-the-seas-cruise-ship/
ATTACH;FMTTYPE=image/jpeg:https://aaronbonk.com/wp-content/uploads/2023/01/Allure.jpg
END:VEVENT
BEGIN:VEVENT
DTSTART;VALUE=DATE:20250614
DTEND;VALUE=DATE:20250618
DTSTAMP:20260425T232410
CREATED:20230109T185606Z
LAST-MODIFIED:20250408T170211Z
UID:3578-1749859200-1750204799@aaronbonk.com
SUMMARY:Liberty of the Seas - Cruise Ship
DESCRIPTION:Danger Comedy Juggling and Whip Cracking Stage Shows
URL:https://aaronbonk.com/dates/liberty-of-the-seas-cruise-ship/
ATTACH;FMTTYPE=image/jpeg:https://aaronbonk.com/wp-content/uploads/2023/01/liberty.jpeg
END:VEVENT
END:VCALENDAR