BEGIN:VCALENDAR
VERSION:2.0
PRODID:-//Aaron Bonk - ECPv6.15.20//NONSGML v1.0//EN
CALSCALE:GREGORIAN
METHOD:PUBLISH
X-WR-CALNAME:Aaron Bonk
X-ORIGINAL-URL:https://aaronbonk.com
X-WR-CALDESC:Events for Aaron Bonk
REFRESH-INTERVAL;VALUE=DURATION:PT1H
X-Robots-Tag:noindex
X-PUBLISHED-TTL:PT1H
BEGIN:VTIMEZONE
TZID:Asia/Shanghai
BEGIN:STANDARD
TZOFFSETFROM:+0800
TZOFFSETTO:+0800
TZNAME:CST
DTSTART:20250101T000000
END:STANDARD
END:VTIMEZONE
BEGIN:VTIMEZONE
TZID:America/Denver
BEGIN:DAYLIGHT
TZOFFSETFROM:-0700
TZOFFSETTO:-0600
TZNAME:MDT
DTSTART:20250309T090000
END:DAYLIGHT
BEGIN:STANDARD
TZOFFSETFROM:-0600
TZOFFSETTO:-0700
TZNAME:MST
DTSTART:20251102T080000
END:STANDARD
BEGIN:DAYLIGHT
TZOFFSETFROM:-0700
TZOFFSETTO:-0600
TZNAME:MDT
DTSTART:20260308T090000
END:DAYLIGHT
BEGIN:STANDARD
TZOFFSETFROM:-0600
TZOFFSETTO:-0700
TZNAME:MST
DTSTART:20261101T080000
END:STANDARD
BEGIN:DAYLIGHT
TZOFFSETFROM:-0700
TZOFFSETTO:-0600
TZNAME:MDT
DTSTART:20270314T090000
END:DAYLIGHT
BEGIN:STANDARD
TZOFFSETFROM:-0600
TZOFFSETTO:-0700
TZNAME:MST
DTSTART:20271107T080000
END:STANDARD
END:VTIMEZONE
BEGIN:VEVENT
DTSTART;VALUE=DATE:20260411
DTEND;VALUE=DATE:20260601
DTSTAMP:20260423T202721
CREATED:20260301T182738Z
LAST-MODIFIED:20260301T182738Z
UID:3803-1775865600-1780271999@aaronbonk.com
SUMMARY:Georgia Renaissance Festival
DESCRIPTION:Saturdays\, Sundays and Memorial Day \n10:30am-6pm \nFire Whips Cracking Sword Juggling Stage Shows!
URL:https://aaronbonk.com/dates/georgia-renaissance-festival/
LOCATION:CA
ATTACH;FMTTYPE=image/jpeg:https://aaronbonk.com/wp-content/uploads/2021/06/IMG_4238-scaled.jpg
END:VEVENT
BEGIN:VEVENT
DTSTART;TZID=America/Denver:20260430T193000
DTEND;TZID=America/Denver:20260430T210000
DTSTAMP:20260423T202721
CREATED:20260415T194010Z
LAST-MODIFIED:20260415T194010Z
UID:3807-1777577400-1777582800@aaronbonk.com
SUMMARY:Indoors & Unleashed in Santa Monica
DESCRIPTION:  \n\n\nOne Night Only! Santa Monica\, California!\nApril 30th 7:30-9:00pm\nClick event link below for Tickets! \n\n\n\n\nIllusion Magic Lounge\n1418 4th St. Santa Monica\, CA 90401 \nWhips! Comedy! Music! Stunts so dangerous your mother would slap you foreven thinking about them! One night only in Los Angels\, Aaron Bonk brings hisRen Faire Ridiculousness on to the indoor stage.\n(Even a few things that have never been performed on a stage in the history of ever.) \n\n\n\n\nNo sunlight in your eyes! 0% chance of rain! Comfy theater seats!\nSorry you have to come all the way out to Santa Monica\, but you don’t have to walk 20 minutes across a dam field to your car! \nVIP Meet and Greet Available! \nDon’t miss your ONLY chance to Get Bonked on the West Coast in 2026! 
URL:https://aaronbonk.com/dates/indoors-unleashed-in-santa-monica/
LOCATION:Illusion Magic Lounge\, 1418 4th St\, Santa Monica\, CA\, 90401\, United States
ATTACH;FMTTYPE=image/png:https://aaronbonk.com/wp-content/uploads/2026/04/Screenshot-2026-04-15-at-3.39.00-PM.png
END:VEVENT
BEGIN:VEVENT
DTSTART;VALUE=DATE:20260613
DTEND;VALUE=DATE:20260619
DTSTAMP:20260423T202721
CREATED:20251211T161059Z
LAST-MODIFIED:20251211T161059Z
UID:3773-1781308800-1781827199@aaronbonk.com
SUMMARY:Mariner of the Seas - Cruise Ship
DESCRIPTION:Danger Comedy Juggling and Whip Cracking Stage Shows!
URL:https://aaronbonk.com/dates/mariner-of-the-seas-cruise-ship-2/
LOCATION:CA
ATTACH;FMTTYPE=image/jpeg:https://aaronbonk.com/wp-content/uploads/2024/12/Mariner.jpg
END:VEVENT
BEGIN:VEVENT
DTSTART;VALUE=DATE:20260621
DTEND;VALUE=DATE:20260627
DTSTAMP:20260423T202721
CREATED:20251211T161230Z
LAST-MODIFIED:20251211T161230Z
UID:3775-1782000000-1782518399@aaronbonk.com
SUMMARY:Ovation of the Seas - Cruise Ship
DESCRIPTION:Danger Comedy Juggling and Whip Cracking Stage Shows!
URL:https://aaronbonk.com/dates/ovation-of-the-seas-cruise-ship-2/
LOCATION:CA
ATTACH;FMTTYPE=image/png:https://aaronbonk.com/wp-content/uploads/2023/03/Ovation.png
END:VEVENT
BEGIN:VEVENT
DTSTART;VALUE=DATE:20260629
DTEND;VALUE=DATE:20260704
DTSTAMP:20260423T202721
CREATED:20251211T161942Z
LAST-MODIFIED:20260112T222328Z
UID:3777-1782691200-1783123199@aaronbonk.com
SUMMARY:Quantum of the Seas - Cruise Ship
DESCRIPTION:Danger Comedy Juggling and Whip Cracking Stage Shows!
URL:https://aaronbonk.com/dates/quantum-of-the-seas-cruise-ship/
LOCATION:CA
ATTACH;FMTTYPE=image/webp:https://aaronbonk.com/wp-content/uploads/2025/12/Quantum.webp
END:VEVENT
BEGIN:VEVENT
DTSTART;VALUE=DATE:20260704
DTEND;VALUE=DATE:20260707
DTSTAMP:20260423T202721
CREATED:20251211T162231Z
LAST-MODIFIED:20251211T162231Z
UID:3781-1783123200-1783382399@aaronbonk.com
SUMMARY:Adventure of the Seas - Cruise Ship
DESCRIPTION:Danger Comedy Juggling and Whip Cracking Stage Shows!
URL:https://aaronbonk.com/dates/adventure-of-the-seas-cruise-ship-5/
LOCATION:CA
ATTACH;FMTTYPE=image/jpeg:https://aaronbonk.com/wp-content/uploads/2023/11/adventure.jpg
END:VEVENT
BEGIN:VEVENT
DTSTART;VALUE=DATE:20260707
DTEND;VALUE=DATE:20260714
DTSTAMP:20260423T202721
CREATED:20251211T162432Z
LAST-MODIFIED:20251211T162432Z
UID:3783-1783382400-1783987199@aaronbonk.com
SUMMARY:Navigator of the Seas - Cruise Ship
DESCRIPTION:Danger Comedy Juggling and Whip Cracking Stage Shows!
URL:https://aaronbonk.com/dates/navigator-of-the-seas-cruise-ship-2/
LOCATION:CA
ATTACH;FMTTYPE=image/png:https://aaronbonk.com/wp-content/uploads/2023/04/Navigator.png
END:VEVENT
BEGIN:VEVENT
DTSTART;TZID=Asia/Shanghai:20260718T100000
DTEND;TZID=Asia/Shanghai:20260802T180000
DTSTAMP:20260423T202721
CREATED:20251211T163921Z
LAST-MODIFIED:20251211T163921Z
UID:3795-1784368800-1785693600@aaronbonk.com
SUMMARY:Maine Renaissance Faire
DESCRIPTION:Saturdays and Sundays \n10am-6pm \nFire Whips Cracking Sword Juggling Stage Shows!
URL:https://aaronbonk.com/dates/maine-renaissance-faire-2/
LOCATION:CA
ATTACH;FMTTYPE=image/jpeg:https://aaronbonk.com/wp-content/uploads/2020/11/renaissance.jpg
END:VEVENT
BEGIN:VEVENT
DTSTART;TZID=Asia/Shanghai:20260815T100000
DTEND;TZID=Asia/Shanghai:20261004T190000
DTSTAMP:20260423T202721
CREATED:20251211T164356Z
LAST-MODIFIED:20251211T164356Z
UID:3798-1786788000-1791140400@aaronbonk.com
SUMMARY:New York Renaissance Faire
DESCRIPTION:Saturdays\, Sundays and Labor Day \n10am-7pm \nFire Whips Cracking Sword Juggling Stage Shows!
URL:https://aaronbonk.com/dates/new-york-renaissance-faire-2/
LOCATION:CA
ATTACH;FMTTYPE=image/jpeg:https://aaronbonk.com/wp-content/uploads/2020/11/fire-whip-juggling.jpg
END:VEVENT
BEGIN:VEVENT
DTSTART;TZID=Asia/Shanghai:20261010T110000
DTEND;TZID=Asia/Shanghai:20261025T200000
DTSTAMP:20260423T202721
CREATED:20210324T145107Z
LAST-MODIFIED:20260104T172711Z
UID:3524-1791630000-1792958400@aaronbonk.com
SUMMARY:Pennsylvania Renaissance Faire
DESCRIPTION:Saturdays and Sundays \n11am-8pm \nFire Whips Cracking Sword Juggling Stage Shows!
URL:https://aaronbonk.com/dates/pennsylvania-renaissance-faire/
LOCATION:CA
ATTACH;FMTTYPE=image/jpeg:https://aaronbonk.com/wp-content/uploads/2020/11/Crowd-pic.jpg
END:VEVENT
BEGIN:VEVENT
DTSTART;VALUE=DATE:20261130
DTEND;VALUE=DATE:20261205
DTSTAMP:20260423T202721
CREATED:20251211T163144Z
LAST-MODIFIED:20251211T163144Z
UID:3786-1795996800-1796428799@aaronbonk.com
SUMMARY:Brilliance of the Seas - Cruise Ship
DESCRIPTION:Danger Comedy Juggling and Whip Cracking Stage Shows!
URL:https://aaronbonk.com/dates/brilliance-of-the-seas-cruise-ship/
LOCATION:CA
ATTACH;FMTTYPE=image/jpeg:https://aaronbonk.com/wp-content/uploads/2025/12/Brilliance.jpg
END:VEVENT
BEGIN:VEVENT
DTSTART;VALUE=DATE:20261220
DTEND;VALUE=DATE:20261228
DTSTAMP:20260423T202721
CREATED:20251211T163459Z
LAST-MODIFIED:20251211T163459Z
UID:3791-1797724800-1798415999@aaronbonk.com
SUMMARY:Odyssey of the Seas - Cruise Ship
DESCRIPTION:Danger Comedy Juggling and Whip Cracking Stage Shows!
URL:https://aaronbonk.com/dates/odyssey-of-the-seas-cruise-ship-6/
LOCATION:CA
ATTACH;FMTTYPE=image/jpeg:https://aaronbonk.com/wp-content/uploads/2023/01/Odyssey.jpeg
END:VEVENT
BEGIN:VEVENT
DTSTART;VALUE=DATE:20261231
DTEND;VALUE=DATE:20270110
DTSTAMP:20260423T202721
CREATED:20260301T183001Z
LAST-MODIFIED:20260301T185004Z
UID:3805-1798675200-1799539199@aaronbonk.com
SUMMARY:Liberty of the Seas - Cruise Ship
DESCRIPTION:Danger Comedy Juggling and Whip Cracking Stage Shows!
URL:https://aaronbonk.com/dates/liberty-of-the-seas-cruise-ship-4/
LOCATION:CA
ATTACH;FMTTYPE=image/jpeg:https://aaronbonk.com/wp-content/uploads/2023/01/liberty.jpeg
END:VEVENT
END:VCALENDAR